BEGIN:VCALENDAR
VERSION:2.0
PRODID:-//WCC - ECPv4.6.10.1//NONSGML v1.0//EN
CALSCALE:GREGORIAN
METHOD:PUBLISH
X-WR-CALNAME:WCC
X-ORIGINAL-URL:https://constructorscompany.org.uk
X-WR-CALDESC:Events for WCC
BEGIN:VEVENT
DTSTART;VALUE=DATE:20250618
DTEND;VALUE=DATE:20250619
DTSTAMP:20260422T000516
CREATED:20250210T155008Z
LAST-MODIFIED:20250425T161410Z
UID:13684-1750204800-1750291199@constructorscompany.org.uk
SUMMARY:Katie Wignall “Secret Gardens” blue badge walk
DESCRIPTION:Katie Wignall “Secret Gardens” blue badge walk\nA unique tour of The City’s secret gardens whilst telling their most important and compelling stories. \nIn London’s Square Mile there are an incredible 376 open and green spaces. What’s more\, each garden tells a story of the City’s rich and varied history. On this walking tour we’ll be exploring some of the most beautiful spots in the City\, finding out why this small space has so much greenery and hunting down the most unusual gardens! Starting at 3.00pm the meeting point is outside Mansion House Tube Station\, specifically outside exit 1 on the corner of Garlick Hill and Queen Victoria Street. The walk lasts a maximum of 2 hours\, ending at St Dunstan-in-the-East Garden. You are then welcome to join The Master for food and drink at Carmino\, a Spanish tapas bar in Mincing Lane (at your own cost). \nEvent details \nDate: Wednesday 18th JuneTime: 3:00pm – 5:00pmMeeting Point: Outside Mansion House Tube Station (Exit 1 – Corner of Garlick Hill and Queen Victoria Street)Tour Price: £35.00 per person (incl. VAT)Capacity: Only 20 places available \n  \nSpaces are limited – book early to avoid disappointment! \nTo access the full flyer for additional details click here \n
URL:https://constructorscompany.org.uk/event/blue-badge-walk-katie-wignall-secret-gardens/
CATEGORIES:Informal Events
ATTACH;FMTTYPE=image/jpeg:https://constructorscompany.org.uk/wp-content/uploads/2025/02/WCC-City-Secret-Gardensfinal.jpeg
END:VEVENT
END:VCALENDAR