BEGIN:VCALENDAR
VERSION:2.0
PRODID:-//WCC - ECPv4.6.10.1//NONSGML v1.0//EN
CALSCALE:GREGORIAN
METHOD:PUBLISH
X-WR-CALNAME:WCC
X-ORIGINAL-URL:https://constructorscompany.org.uk
X-WR-CALDESC:Events for WCC
BEGIN:VEVENT
DTSTART;TZID=UTC+0:20221117T190000
DTEND;TZID=UTC+0:20221117T200000
DTSTAMP:20260421T100628
CREATED:20221107T110147Z
LAST-MODIFIED:20221116T171220Z
UID:10752-1668711600-1668715200@constructorscompany.org.uk
SUMMARY:Boundary Disputes (Postponed)
DESCRIPTION:Boundary Disputes (Postponed)\nWhen it all goes wrong! How to avoid disputes with Liveryman Gary Jackson MRICS MAE\nGary is a Chartered Land Surveyor and qualified Expert Witness\, with almost 40 years of experience within the public and private sectors and has provided numerous surveys for government\, educational and financial institutions\, as well as a broad range of commercial clients including Architects\, Engineers\, Developers\, Solicitors and other professional consultants\, such as Party Wall Surveyors and Right of Light Consultants. \nWith an ever-increasing demand for survey work and expert reports for Court use\, in relation to boundary related issues\, Gary  has focused on this area of work and developed his expertise over the past 10 years and now serves on the RICS Working Group for Boundaries and Party Walls\, which provides guidance and documentation for the surveying industry. \nGary’s presentation will give some insight into the documentation and principles of dealing with a boundary related dispute\, provide some examples of “where it all went wrong”\, (commercial and residential)\, and how to avoid a costly dispute in the future. \n\n
URL:https://constructorscompany.org.uk/event/boundary-disputes/
CATEGORIES:Informal Events
ORGANIZER;CN="Craig%20Harding":MAILTO:craig.harding@constructorscompany.org.uk
END:VEVENT
END:VCALENDAR