BEGIN:VCALENDAR
VERSION:2.0
PRODID:-//WCC - ECPv4.6.10.1//NONSGML v1.0//EN
CALSCALE:GREGORIAN
METHOD:PUBLISH
X-WR-CALNAME:WCC
X-ORIGINAL-URL:https://constructorscompany.org.uk
X-WR-CALDESC:Events for WCC
BEGIN:VEVENT
DTSTART;TZID=UTC+0:20230627T170000
DTEND;TZID=UTC+0:20230627T190000
DTSTAMP:20260423T045355
CREATED:20230223T165004Z
LAST-MODIFIED:20230516T102500Z
UID:11084-1687885200-1687892400@constructorscompany.org.uk
SUMMARY:Canal Boat Trip
DESCRIPTION:A tour along the Grand Union Canal\, through the Islington Tunnel followed by food and drinks in a local hostelry! \nYou can view the event flyer here. \n
URL:https://constructorscompany.org.uk/event/canal-boat-trip/
CATEGORIES:Informal Events
ORGANIZER;CN="Craig%20Harding":MAILTO:craig.harding@constructorscompany.org.uk
END:VEVENT
END:VCALENDAR