BEGIN:VCALENDAR
VERSION:2.0
PRODID:-//WCC - ECPv4.6.10.1//NONSGML v1.0//EN
CALSCALE:GREGORIAN
METHOD:PUBLISH
X-WR-CALNAME:WCC
X-ORIGINAL-URL:https://constructorscompany.org.uk
X-WR-CALDESC:Events for WCC
BEGIN:VEVENT
DTSTART;TZID=UTC+0:20241205T183000
DTEND;TZID=UTC+0:20241205T183000
DTSTAMP:20260421T074248
CREATED:20240729T095731Z
LAST-MODIFIED:20240729T095731Z
UID:12861-1733423400-1733423400@constructorscompany.org.uk
SUMMARY:Carol Service
DESCRIPTION:Carol Service\n
URL:https://constructorscompany.org.uk/event/carol-service-3/
LOCATION:London\, United Kingdom\, EC2V 5AA
CATEGORIES:Informal Events
ORGANIZER;CN="The%20Clerk":MAILTO:constructorsclerk@constructorscompany.co.uk
END:VEVENT
END:VCALENDAR