BEGIN:VCALENDAR
VERSION:2.0
PRODID:-//WCC - ECPv4.6.10.1//NONSGML v1.0//EN
CALSCALE:GREGORIAN
METHOD:PUBLISH
X-WR-CALNAME:WCC
X-ORIGINAL-URL:https://constructorscompany.org.uk
X-WR-CALDESC:Events for WCC
BEGIN:VEVENT
DTSTART;TZID=UTC+0:20231116T170000
DTEND;TZID=UTC+0:20231116T230000
DTSTAMP:20260420T102209
CREATED:20231109T092426Z
LAST-MODIFIED:20231109T093643Z
UID:11691-1700154000-1700175600@constructorscompany.org.uk
SUMMARY:Christmas Lights Switch On
DESCRIPTION:The Lord Mayor of London will kickstart Christmas at the City of London’s iconic hidden gem\, Leadenhall Market\, on Thursday16 November. \nThe much-loved annual switch-on ceremony will take place at 6pm – complete with pyrotechnic firework fountains unveiling the full splendor of Leadenhall Market’s giant real Christmas tree\, which sits under the breathtaking central star covered atrium of the Victorian market. \nThe eight-metre tall glittering Christmas tree will be decked with a colour changing LED light display\, complementing the large baubles and beautiful fir tree garlands throughout the Market. New this year\, a twinkling light tunnel\, will bring festive cheer to Beehive Passage\, tempting visitors to explore the shops\, restaurants and bars nestled in the cobbled alleyways of Leadenhall Market. \nChildren from primary schools across the capital will provide uplifting carols for the eremony\, performing seasonal songs as part of the London Youth Choir from 5.15pm\, before the countdown begins for the Lord Mayor’s speech and Christmas light switch on at 6pm. \nAn space is booked for 20 Persons at Brokers Wine Bar from 1700 under the name: Worshipful Company of Constructors. \nFood and beverages not included and will be at your own expense. \n  \nDownload the flyer here. \n
URL:https://constructorscompany.org.uk/event/christmas-lights-switch-on/
LOCATION:Brokers Wine Bar (Mezzanine Level) 6-9 Leadenhall Market\, London\, EC3 2BLR
CATEGORIES:Informal Events
ORGANIZER;CN="Christopher%20Breiner":MAILTO:chris.breiner@preconvision.co.uk
END:VEVENT
END:VCALENDAR