BEGIN:VCALENDAR
VERSION:2.0
PRODID:-//WCC - ECPv4.6.10.1//NONSGML v1.0//EN
CALSCALE:GREGORIAN
METHOD:PUBLISH
X-WR-CALNAME:WCC
X-ORIGINAL-URL:https://constructorscompany.org.uk
X-WR-CALDESC:Events for WCC
BEGIN:VEVENT
DTSTART;TZID=UTC+0:20210201T120000
DTEND;TZID=UTC+0:20210201T150000
DTSTAMP:20260419T223212
CREATED:20200930T112255Z
LAST-MODIFIED:20210103T130754Z
UID:7797-1612180800-1612191600@constructorscompany.org.uk
SUMMARY:Constructors' Lunch
DESCRIPTION:Constructors’ Lunch at Ironmongers Hall \nThis event has now been CANCELLED \n
URL:https://constructorscompany.org.uk/event/constructors-lunch-3-2-2-4-4-2-2-3/
LOCATION:Shaftsbury Place\,\, London\, EC2Y 8AA
CATEGORIES:Informal Events
ATTACH;FMTTYPE=image/png:https://constructorscompany.org.uk/wp-content/uploads/2018/02/Ironmongers.png
END:VEVENT
END:VCALENDAR