BEGIN:VCALENDAR
VERSION:2.0
PRODID:-//WCC - ECPv4.6.10.1//NONSGML v1.0//EN
CALSCALE:GREGORIAN
METHOD:PUBLISH
X-WR-CALNAME:WCC
X-ORIGINAL-URL:https://constructorscompany.org.uk
X-WR-CALDESC:Events for WCC
BEGIN:VEVENT
DTSTART;TZID=UTC+0:20210712T120000
DTEND;TZID=UTC+0:20210712T170000
DTSTAMP:20260421T130031
CREATED:20210608T100252Z
LAST-MODIFIED:20210608T100424Z
UID:8813-1626091200-1626109200@constructorscompany.org.uk
SUMMARY:Constructors Lunch Club
DESCRIPTION:Constructors Lunch Club \nMeet\, Dine and Network with fellow Constructors \nThe Master and Wardens invite Constructors and their guests to join them for the Company’s next informal lunch at Ironmongers’ Hall. \nThis is an excellent opportunity to catch up with fellow Constructors and bring along guests and prospective members\, all of whom will be made to feel most welcome. \nOn arrival at the Hall you will be temperature scanned and required to wash your hands and use sanitiser before you are registered for the meal. You will be required to use face coverings within Ironmongers’ Hall (although not when seated in the dining room). \nTo comply with Track and Trace regulations\, members and guests will be required to enter the Hall together (as per grouped tables of 6). Everyone will need to either check in via the NHS Covid App or sign in to the Hall visitor list. \nMenu choices will be circulated on receipt of your booking so that you are able to make your selection in advance. \nThe price of £52.00 includes a glass of prosecco\, half a bottle of house wine (or equivalent soft drinks) and a three course lunch with coffee. This will be invoiced by the Assistant Honorary Treasurer after bookings close. \nThe closing date for bookings and menu choices (and the last date for cancellations) is Monday 5th July 2021. \nThe Company will be paying for all those booked in as of this date\, and such members will be charged for attendance whether or not they attend. Should members book on behalf of their Company they are reminded that they remain personally liable for their booking in the event that their Company does not settle the invoice from the Assistant Honorary Treasurer. \nDress Code: Business attire with tie \n
URL:https://constructorscompany.org.uk/event/constructors-lunch-club/
LOCATION:Shaftsbury Place\,\, London\, EC2Y 8AA
CATEGORIES:Informal Events
ORGANIZER;CN="The%20Clerk":MAILTO:constructorsclerk@constructorscompany.co.uk
END:VEVENT
END:VCALENDAR