BEGIN:VCALENDAR
VERSION:2.0
PRODID:-//WCC - ECPv4.6.10.1//NONSGML v1.0//EN
CALSCALE:GREGORIAN
METHOD:PUBLISH
X-WR-CALNAME:WCC
X-ORIGINAL-URL:https://constructorscompany.org.uk
X-WR-CALDESC:Events for WCC
BEGIN:VEVENT
DTSTART;TZID=UTC+0:20230706T123000
DTEND;TZID=UTC+0:20230706T130000
DTSTAMP:20260422T170642
CREATED:20220408T140500Z
LAST-MODIFIED:20220408T140500Z
UID:10132-1688646600-1688648400@constructorscompany.org.uk
SUMMARY:Court & Livery Lunch
DESCRIPTION:Court & Livery Lunch\n
URL:https://constructorscompany.org.uk/event/court-livery-lunch/
LOCATION:Monkwell Square\, Wood Street\, London\, EC2Y 5BL
CATEGORIES:Formal Events
ORGANIZER;CN="The%20Clerk":MAILTO:constructorsclerk@constructorscompany.co.uk
END:VEVENT
END:VCALENDAR