BEGIN:VCALENDAR
VERSION:2.0
PRODID:-//WCC - ECPv4.6.10.1//NONSGML v1.0//EN
CALSCALE:GREGORIAN
METHOD:PUBLISH
X-WR-CALNAME:WCC
X-ORIGINAL-URL:https://constructorscompany.org.uk
X-WR-CALDESC:Events for WCC
BEGIN:VEVENT
DTSTART;TZID=UTC+0:20250605T130000
DTEND;TZID=UTC+0:20250605T140000
DTSTAMP:20260421T222751
CREATED:20250213T111719Z
LAST-MODIFIED:20250213T162401Z
UID:13706-1749128400-1749132000@constructorscompany.org.uk
SUMMARY:Education and Awards Committee
DESCRIPTION:Education and Awards Committee\n
URL:https://constructorscompany.org.uk/event/education-and-awards-committee-2/
CATEGORIES:Company Meetings
ORGANIZER;CN="Chris%20Turner":MAILTO:c.w.turner@outlook.com
END:VEVENT
END:VCALENDAR