BEGIN:VCALENDAR
VERSION:2.0
PRODID:-//WCC - ECPv4.6.10.1//NONSGML v1.0//EN
CALSCALE:GREGORIAN
METHOD:PUBLISH
X-WR-CALNAME:WCC
X-ORIGINAL-URL:https://constructorscompany.org.uk
X-WR-CALDESC:Events for WCC
BEGIN:VEVENT
DTSTART;TZID=UTC+0:20230907T110000
DTEND;TZID=UTC+0:20230907T110000
DTSTAMP:20260422T075042
CREATED:20220408T140550Z
LAST-MODIFIED:20220408T140727Z
UID:10134-1694084400-1694084400@constructorscompany.org.uk
SUMMARY:Election Committee
DESCRIPTION:Election Committee\n
URL:https://constructorscompany.org.uk/event/election-committee-17/
LOCATION:Plaisterers' Hall\, 1 London Wall\, EC2Y 5JU
CATEGORIES:Company Meetings
ORGANIZER;CN="The%20Clerk":MAILTO:constructorsclerk@constructorscompany.co.uk
END:VEVENT
END:VCALENDAR