BEGIN:VCALENDAR
VERSION:2.0
PRODID:-//WCC - ECPv4.6.10.1//NONSGML v1.0//EN
CALSCALE:GREGORIAN
METHOD:PUBLISH
X-WR-CALNAME:WCC
X-ORIGINAL-URL:https://constructorscompany.org.uk
X-WR-CALDESC:Events for WCC
BEGIN:VEVENT
DTSTART;TZID=UTC+0:20230712T110000
DTEND;TZID=UTC+0:20230712T120000
DTSTAMP:20260422T123659
CREATED:20230424T133414Z
LAST-MODIFIED:20230809T160307Z
UID:11204-1689159600-1689163200@constructorscompany.org.uk
SUMMARY:Election Committee
DESCRIPTION:Election Committee\n  \n
URL:https://constructorscompany.org.uk/event/election-court-2-2/
LOCATION:Plaisterers' Hall\, 1 London Wall\, EC2Y 5JU
CATEGORIES:Company Meetings
ORGANIZER;CN="The%20Clerk":MAILTO:constructorsclerk@constructorscompany.co.uk
END:VEVENT
END:VCALENDAR