BEGIN:VCALENDAR
VERSION:2.0
PRODID:-//WCC - ECPv4.6.10.1//NONSGML v1.0//EN
CALSCALE:GREGORIAN
METHOD:PUBLISH
X-WR-CALNAME:WCC
X-ORIGINAL-URL:https://constructorscompany.org.uk
X-WR-CALDESC:Events for WCC
BEGIN:VEVENT
DTSTART;TZID=UTC+0:20230914T150000
DTEND;TZID=UTC+0:20230914T150000
DTSTAMP:20260421T225318
CREATED:20220408T141459Z
LAST-MODIFIED:20230911T153612Z
UID:10143-1694703600-1694703600@constructorscompany.org.uk
SUMMARY:Court
DESCRIPTION:Court\n  \n
URL:https://constructorscompany.org.uk/event/election-court-2/
LOCATION:6 Gresham St.\, London\, EC2V 7AD
CATEGORIES:Company Meetings
ORGANIZER;CN="The%20Clerk":MAILTO:constructorsclerk@constructorscompany.co.uk
END:VEVENT
END:VCALENDAR