BEGIN:VCALENDAR
VERSION:2.0
PRODID:-//WCC - ECPv4.6.10.1//NONSGML v1.0//EN
CALSCALE:GREGORIAN
METHOD:PUBLISH
X-WR-CALNAME:WCC
X-ORIGINAL-URL:https://constructorscompany.org.uk
X-WR-CALDESC:Events for WCC
BEGIN:VEVENT
DTSTART;TZID=UTC+0:20250918T150000
DTEND;TZID=UTC+0:20250918T150000
DTSTAMP:20260421T175122
CREATED:20240729T160846Z
LAST-MODIFIED:20240729T160846Z
UID:12938-1758207600-1758207600@constructorscompany.org.uk
SUMMARY:Election Court
DESCRIPTION:Election Court\n
URL:https://constructorscompany.org.uk/event/election-court-4/
LOCATION:6 Gresham St.\, London\, EC2V 7AD
CATEGORIES:Company Meetings
ORGANIZER;CN="The%20Clerk":MAILTO:constructorsclerk@constructorscompany.co.uk
END:VEVENT
END:VCALENDAR