BEGIN:VCALENDAR
VERSION:2.0
PRODID:-//WCC - ECPv4.6.10.1//NONSGML v1.0//EN
CALSCALE:GREGORIAN
METHOD:PUBLISH
X-WR-CALNAME:WCC
X-ORIGINAL-URL:https://constructorscompany.org.uk
X-WR-CALDESC:Events for WCC
BEGIN:VEVENT
DTSTART;TZID=UTC+0:20241205T193000
DTEND;TZID=UTC+0:20241205T193000
DTSTAMP:20260421T055525
CREATED:20240729T100020Z
LAST-MODIFIED:20240729T100157Z
UID:12863-1733427000-1733427000@constructorscompany.org.uk
SUMMARY:Festive Supper
DESCRIPTION:Festive Supper\n
URL:https://constructorscompany.org.uk/event/festive-supper-3/
LOCATION:Guildhall Basinghall St\, London\, EC2V 7HH\, United Kingdom
CATEGORIES:Informal Events
ORGANIZER;CN="The%20Clerk":MAILTO:constructorsclerk@constructorscompany.co.uk
END:VEVENT
END:VCALENDAR