BEGIN:VCALENDAR
VERSION:2.0
PRODID:-//WCC - ECPv4.6.10.1//NONSGML v1.0//EN
CALSCALE:GREGORIAN
METHOD:PUBLISH
X-WR-CALNAME:WCC
X-ORIGINAL-URL:https://constructorscompany.org.uk
X-WR-CALDESC:Events for WCC
BEGIN:VEVENT
DTSTART;TZID=UTC+0:20221109T160000
DTEND;TZID=UTC+0:20221109T160000
DTSTAMP:20260421T155028
CREATED:20220407T161422Z
LAST-MODIFIED:20220407T161422Z
UID:10065-1668009600-1668009600@constructorscompany.org.uk
SUMMARY:Fundraising Committee
DESCRIPTION:Fundraising Committee\n
URL:https://constructorscompany.org.uk/event/fundraising-committee-3/
CATEGORIES:Company Meetings
END:VEVENT
END:VCALENDAR