BEGIN:VCALENDAR
VERSION:2.0
PRODID:-//WCC - ECPv4.6.10.1//NONSGML v1.0//EN
CALSCALE:GREGORIAN
METHOD:PUBLISH
X-WR-CALNAME:WCC
X-ORIGINAL-URL:https://constructorscompany.org.uk
X-WR-CALDESC:Events for WCC
BEGIN:VEVENT
DTSTART;TZID=UTC+0:20250619T131000
DTEND;TZID=UTC+0:20250619T131000
DTSTAMP:20260421T223053
CREATED:20250116T165435Z
LAST-MODIFIED:20250116T165503Z
UID:13377-1750338600-1750338600@constructorscompany.org.uk
SUMMARY:GP Committee
DESCRIPTION:GP Committee\n
URL:https://constructorscompany.org.uk/event/gp-committee-12/
LOCATION:Plaisterers' Hall\, 1 London Wall\, EC2Y 5JU
CATEGORIES:Company Meetings
ORGANIZER;CN="The%20Clerk":MAILTO:constructorsclerk@constructorscompany.co.uk
END:VEVENT
END:VCALENDAR