BEGIN:VCALENDAR
VERSION:2.0
PRODID:-//WCC - ECPv4.6.10.1//NONSGML v1.0//EN
CALSCALE:GREGORIAN
METHOD:PUBLISH
X-WR-CALNAME:WCC
X-ORIGINAL-URL:https://constructorscompany.org.uk
X-WR-CALDESC:Events for WCC
BEGIN:VEVENT
DTSTART;TZID=UTC+0:20250910T140000
DTEND;TZID=UTC+0:20250910T163000
DTSTAMP:20260421T191621
CREATED:20250127T135609Z
LAST-MODIFIED:20250722T142906Z
UID:13502-1757512800-1757521800@constructorscompany.org.uk
SUMMARY:Charity Summer Social Networking Event
DESCRIPTION:Charity Summer Social Networking Event\nLooking out across the incredible views of our amazing Capital City… \nJoin us for an unforgettable afternoon of networking\, inspiration\, and giving back — all while supporting a truly worthy cause: Charity Building for Heroes. \nMeet and connect with some of the industry’s finest\, enjoy drinks\, presentations\, and spectacular views — all in aid of making a difference. \nEvent Details\n\nDate: Wednesday 10th September 2025\nTime: 2:00 PM – 4:30 PM\nDress Code: Smart Casual\nLocation: Level39\, One Canada Square\nLondon\, E14 5AA\nTickets: £50 + £2.50 booking fee\nAll ticket profits go directly to the charity.\n\nEvent Itinerary\n2pm – 2:30pm \n\nWelcome Drinks & Food/Networking\n\n2.30pm – 3.15pm \n\nOpening Welcome and Thanks from our Master\nPresentation: Canary Wharf Estates\nPresentation: Building for Heroes\nHeadline Sponsor\nClosing speech from event host & Raffle Draw\n\n3.15pm-4.30pm \n\nNetworking/Close\n\nDon’t miss out on this opportunity to support an amazing cause and network with your fellow constructors. \nTo book your place\, click here \nFor additional details\, click here \n  \n  \n  \n
URL:https://constructorscompany.org.uk/event/informal-networking-event-19/
LOCATION:Level39\, One Canada Square\, London\, E14 5AA
CATEGORIES:Informal Events
ATTACH;FMTTYPE=image/jpeg:https://constructorscompany.org.uk/wp-content/uploads/2025/01/iStock-1497827296.jpg
ORGANIZER;CN="Rianne%20Scott":MAILTO:rianne@rseliteconsulting.com
END:VEVENT
END:VCALENDAR