BEGIN:VCALENDAR
VERSION:2.0
PRODID:-//WCC - ECPv4.6.10.1//NONSGML v1.0//EN
CALSCALE:GREGORIAN
METHOD:PUBLISH
X-WR-CALNAME:WCC
X-ORIGINAL-URL:https://constructorscompany.org.uk
X-WR-CALDESC:Events for WCC
BEGIN:VEVENT
DTSTART;TZID=UTC+0:20221109T170000
DTEND;TZID=UTC+0:20221109T210000
DTSTAMP:20260421T142733
CREATED:20220823T141933Z
LAST-MODIFIED:20220830T144534Z
UID:10478-1668013200-1668027600@constructorscompany.org.uk
SUMMARY:Informal Networking Event
DESCRIPTION:Informal Networking Event\nA great opportunity to catch up and network with fellow Constructors! \nThese events are an excellent opportunity to network with fellow Constructors over drinks in an informal setting. \nDownload Flyer \n
URL:https://constructorscompany.org.uk/event/informal-networking-event-2/
LOCATION:Austin Friars\, London\, EC2N 2HG
CATEGORIES:Informal Events
ORGANIZER;CN="Rianne%20Scott":MAILTO:rianne@rseliteconsulting.com
END:VEVENT
END:VCALENDAR