BEGIN:VCALENDAR
VERSION:2.0
PRODID:-//WCC - ECPv4.6.10.1//NONSGML v1.0//EN
CALSCALE:GREGORIAN
METHOD:PUBLISH
X-WR-CALNAME:WCC
X-ORIGINAL-URL:https://constructorscompany.org.uk
X-WR-CALDESC:Events for WCC
BEGIN:VEVENT
DTSTART;TZID=UTC+0:20230712T170000
DTEND;TZID=UTC+0:20230712T210000
DTSTAMP:20260422T105447
CREATED:20221118T135938Z
LAST-MODIFIED:20221118T135938Z
UID:10875-1689181200-1689195600@constructorscompany.org.uk
SUMMARY:Informal Networking Event
DESCRIPTION:Informal Networking Event\nA great opportunity to catch up and network with fellow Constructors! \nThese events are an excellent opportunity to network with fellow Constructors over drinks in an informal setting. \n
URL:https://constructorscompany.org.uk/event/informal-networking-event-4-7/
LOCATION:Austin Friars\, London\, EC2N 2HG
CATEGORIES:Informal Events
ORGANIZER;CN="Rianne%20Scott":MAILTO:rianne@rseliteconsulting.com
END:VEVENT
END:VCALENDAR