BEGIN:VCALENDAR
VERSION:2.0
PRODID:-//WCC - ECPv4.6.10.1//NONSGML v1.0//EN
CALSCALE:GREGORIAN
METHOD:PUBLISH
X-WR-CALNAME:WCC
X-ORIGINAL-URL:https://constructorscompany.org.uk
X-WR-CALDESC:Events for WCC
BEGIN:VEVENT
DTSTART;TZID=UTC+0:20231108T173000
DTEND;TZID=UTC+0:20231108T200000
DTSTAMP:20260420T195753
CREATED:20230905T085505Z
LAST-MODIFIED:20230905T085505Z
UID:11542-1699464600-1699473600@constructorscompany.org.uk
SUMMARY:Informal Networking Event
DESCRIPTION:Informal Networking Event\nA great opportunity to catch up and network with fellow Constructors! These events are an excellent opportunity to network with fellow Constructors over drinks in an informal setting. \n
URL:https://constructorscompany.org.uk/event/informal-networking-event-5-2-2-2/
LOCATION:Austin Friars\, London\, EC2N 2HG
CATEGORIES:Informal Events
ORGANIZER;CN="Rianne%20Scott":MAILTO:rianne@rseliteconsulting.com
END:VEVENT
END:VCALENDAR