BEGIN:VCALENDAR
VERSION:2.0
PRODID:-//WCC - ECPv4.6.10.1//NONSGML v1.0//EN
CALSCALE:GREGORIAN
METHOD:PUBLISH
X-WR-CALNAME:WCC
X-ORIGINAL-URL:https://constructorscompany.org.uk
X-WR-CALDESC:Events for WCC
BEGIN:VEVENT
DTSTART;TZID=UTC+0:20230809T173000
DTEND;TZID=UTC+0:20230809T200000
DTSTAMP:20260422T092158
CREATED:20230725T135847Z
LAST-MODIFIED:20230725T135919Z
UID:11391-1691602200-1691611200@constructorscompany.org.uk
SUMMARY:Informal Networking Event
DESCRIPTION:Informal Networking Event\nA great opportunity to catch up and network with fellow Constructors! These events are an excellent opportunity to network with fellow Constructors over drinks in an informal setting. \n
URL:https://constructorscompany.org.uk/event/informal-networking-event-5/
LOCATION:Austin Friars\, London\, EC2N 2HG
ORGANIZER;CN="Rianne%20Scott":MAILTO:rianne@rseliteconsulting.com
END:VEVENT
END:VCALENDAR