BEGIN:VCALENDAR
VERSION:2.0
PRODID:-//WCC - ECPv4.6.10.1//NONSGML v1.0//EN
CALSCALE:GREGORIAN
METHOD:PUBLISH
X-WR-CALNAME:WCC
X-ORIGINAL-URL:https://constructorscompany.org.uk
X-WR-CALDESC:Events for WCC
BEGIN:VEVENT
DTSTART;VALUE=DATE:20250918
DTEND;VALUE=DATE:20250919
DTSTAMP:20260421T203633
CREATED:20240729T161418Z
LAST-MODIFIED:20240729T161418Z
UID:12942-1758153600-1758239999@constructorscompany.org.uk
SUMMARY:Informal Reception
DESCRIPTION:Informal Reception\n
URL:https://constructorscompany.org.uk/event/informal-reception-2/
LOCATION:6 Gresham St.\, London\, EC2V 7AD
CATEGORIES:Informal Events
ORGANIZER;CN="The%20Clerk":MAILTO:constructorsclerk@constructorscompany.co.uk
END:VEVENT
END:VCALENDAR