BEGIN:VCALENDAR
VERSION:2.0
PRODID:-//WCC - ECPv4.6.10.1//NONSGML v1.0//EN
CALSCALE:GREGORIAN
METHOD:PUBLISH
X-WR-CALNAME:WCC
X-ORIGINAL-URL:https://constructorscompany.org.uk
X-WR-CALDESC:Events for WCC
BEGIN:VEVENT
DTSTART;TZID=UTC+0:20231012T183000
DTEND;TZID=UTC+0:20231012T183000
DTSTAMP:20260421T071405
CREATED:20230814T141749Z
LAST-MODIFIED:20230824T123649Z
UID:11418-1697135400-1697135400@constructorscompany.org.uk
SUMMARY:Installation Dinner
DESCRIPTION:Installation Dinner\nThe New Master Terry Withers will be Installed in a service in St Lawrence Jewry (Guildhall Yard) at 17:30 on 12th Oct 23. All Members are welcome to attend the service even if not attending the dinner. \nThe Reception Line and Dinner will open at Grocers’ Hall at 1845 for 1915. Tickets will be £120 a head inc VAT. There will be a three course meal with wines and musical accompaniment\, with the dress code being black tie. \nThe Master’s Principal Guest will be Professor Richard Fitton of Salford University\, who will be talking about their ground breaking work with their Energy House\, the way forward for sustainable housing. \nGrocers Hall is limited to 160 max and the Old Adage applies that we cannot let the walls out to accommodate more people. Thus\, please apply early\, members are most welcome to bring guests to what should be a memorable event. The closing date is Monday 25 Sept 23. \nAll questions and enquiries to the Clerk. \nDownload the brochure here. \n
URL:https://constructorscompany.org.uk/event/installation-dinner-3/
LOCATION:Princes Street\, London\, EC2R 8AD
CATEGORIES:Formal Events
ORGANIZER;CN="The%20Clerk":MAILTO:constructorsclerk@constructorscompany.co.uk
END:VEVENT
END:VCALENDAR