BEGIN:VCALENDAR
VERSION:2.0
PRODID:-//WCC - ECPv4.6.10.1//NONSGML v1.0//EN
CALSCALE:GREGORIAN
METHOD:PUBLISH
X-WR-CALNAME:WCC
X-ORIGINAL-URL:https://constructorscompany.org.uk
X-WR-CALDESC:Events for WCC
BEGIN:VEVENT
DTSTART;VALUE=DATE:20251008
DTEND;VALUE=DATE:20251009
DTSTAMP:20260421T221216
CREATED:20250724T085056Z
LAST-MODIFIED:20250827T174133Z
UID:13976-1759881600-1759967999@constructorscompany.org.uk
SUMMARY:Installation of the Master in St Lawrence Jewry & Installation Dinner
DESCRIPTION:Installation of the Master in St Lawrence Jewry & Installation Dinner\nTo celebrate the Installation of the Master\, there will be an Installation Service in St Lawrence Jewry followed by an Installation Dinner at Stationers Hall. \nAll Members are welcome to attend the Service even if not attending the Dinner. \nThe Reception Line and Dinner will open at Stationers’ Hall at 1830 for 1900. Tickets will be £125 a head inc VAT. There will be a Three Course with wines and musical accompaniment. \nEVENT DETAILS\n\nDate: Wednesday 8th Oct 25\ntime: Installation service 1730\, Dinner 1830 – 1900\nDress code: Black Tie\nPrice: £125 pp incl Vat for the Dinner\nLocation: Stationers’ Hall\, Ave Maria Ln\, London EC4M 7DD\n\nStationer’ Hall is limited to 180 max and the Old Adage applies that we cannot let the walls out to accommodate more people.  Thus\, please apply early\, Members are most welcome to bring guests to what should be a memorable event \nThe closing date is Wednesday 24 Sept 25. All questions and enquiries to the Clerk. \n  \n
URL:https://constructorscompany.org.uk/event/installation-of-the-master/
LOCATION:Guildhall Yard\, London\, EC2V 5AA
CATEGORIES:Formal Events
ATTACH;FMTTYPE=image/jpeg:https://constructorscompany.org.uk/wp-content/uploads/2025/07/FayPaul-378_71e6.jpg
ORGANIZER;CN="Constructors%20Clerk":MAILTO:constructorsclerk@constructorscompany.co.uk
END:VEVENT
END:VCALENDAR