BEGIN:VCALENDAR
VERSION:2.0
PRODID:-//WCC - ECPv4.6.10.1//NONSGML v1.0//EN
CALSCALE:GREGORIAN
METHOD:PUBLISH
X-WR-CALNAME:WCC
X-ORIGINAL-URL:https://constructorscompany.org.uk
X-WR-CALDESC:Events for WCC
BEGIN:VEVENT
DTSTART;TZID=UTC+0:20210216T120000
DTEND;TZID=UTC+0:20210216T150000
DTSTAMP:20260419T144856
CREATED:20201110T164423Z
LAST-MODIFIED:20210210T151410Z
UID:8122-1613476800-1613487600@constructorscompany.org.uk
SUMMARY:Inter-Livery Pancake Race
DESCRIPTION:Inter-Livery Pancake Race \nCANCELLED \nRegrettably\, due to the current uncertainties the 2021 Pancake Race in Guildhall Yard has been CANCELLED.  The 2022 race is expected to take place on Tuesday 1 March 2022 and we hope to be invited to field a team. \n
URL:https://constructorscompany.org.uk/event/inter-livery-pancake-race/
LOCATION:London\, EC2V 5AE
CATEGORIES:Informal Events,Young Constructors
END:VEVENT
END:VCALENDAR