BEGIN:VCALENDAR
VERSION:2.0
PRODID:-//WCC - ECPv4.6.10.1//NONSGML v1.0//EN
CALSCALE:GREGORIAN
METHOD:PUBLISH
X-WR-CALNAME:WCC
X-ORIGINAL-URL:https://constructorscompany.org.uk
X-WR-CALDESC:Events for WCC
BEGIN:VEVENT
DTSTART;VALUE=DATE:20250621
DTEND;VALUE=DATE:20250622
DTSTAMP:20260422T000622
CREATED:20250210T155156Z
LAST-MODIFIED:20250210T155156Z
UID:13686-1750464000-1750550399@constructorscompany.org.uk
SUMMARY:Interlivery Cask Race
DESCRIPTION:Interlivery Cask Race\n
URL:https://constructorscompany.org.uk/event/interlivery-cask-race/
CATEGORIES:Informal Events
END:VEVENT
END:VCALENDAR