BEGIN:VCALENDAR
VERSION:2.0
PRODID:-//WCC - ECPv4.6.10.1//NONSGML v1.0//EN
CALSCALE:GREGORIAN
METHOD:PUBLISH
X-WR-CALNAME:WCC
X-ORIGINAL-URL:https://constructorscompany.org.uk
X-WR-CALDESC:Events for WCC
BEGIN:VEVENT
DTSTART;TZID=UTC+0:20250213T160000
DTEND;TZID=UTC+0:20250213T160000
DTSTAMP:20260420T130928
CREATED:20250116T162129Z
LAST-MODIFIED:20250116T162129Z
UID:13370-1739462400-1739462400@constructorscompany.org.uk
SUMMARY:Joiners Court
DESCRIPTION:Joiners Court\n
URL:https://constructorscompany.org.uk/event/joiners-court/
LOCATION:18 West Smithfield Street\, London\, EC1A 9HQ\, United Kingdom
CATEGORIES:Formal Events
ORGANIZER;CN="The%20Clerk":MAILTO:constructorsclerk@constructorscompany.co.uk
END:VEVENT
END:VCALENDAR