BEGIN:VCALENDAR
VERSION:2.0
PRODID:-//WCC - ECPv4.6.10.1//NONSGML v1.0//EN
CALSCALE:GREGORIAN
METHOD:PUBLISH
X-WR-CALNAME:WCC
X-ORIGINAL-URL:https://constructorscompany.org.uk
X-WR-CALDESC:Events for WCC
BEGIN:VEVENT
DTSTART;TZID=UTC+0:20230929T130000
DTEND;TZID=UTC+0:20230929T130000
DTSTAMP:20260421T142402
CREATED:20230814T141302Z
LAST-MODIFIED:20230915T154656Z
UID:11410-1695992400-1695992400@constructorscompany.org.uk
SUMMARY:Lunch to Follow Election of Lord Mayor
DESCRIPTION:Lunch to Follow Election of Lord Mayor\n
URL:https://constructorscompany.org.uk/event/lunch-3/
LOCATION:9 Little Trinity Lane\, London\, EC2V 2AD
CATEGORIES:Informal Events
ORGANIZER;CN="The%20Clerk":MAILTO:constructorsclerk@constructorscompany.co.uk
END:VEVENT
END:VCALENDAR