BEGIN:VCALENDAR
VERSION:2.0
PRODID:-//WCC - ECPv4.6.10.1//NONSGML v1.0//EN
CALSCALE:GREGORIAN
METHOD:PUBLISH
X-WR-CALNAME:WCC
X-ORIGINAL-URL:https://constructorscompany.org.uk
X-WR-CALDESC:Events for WCC
BEGIN:VEVENT
DTSTART;TZID=UTC+0:20250606T190000
DTEND;TZID=UTC+0:20250606T190000
DTSTAMP:20260422T000051
CREATED:20250120T111110Z
LAST-MODIFIED:20250120T111110Z
UID:13388-1749236400-1749236400@constructorscompany.org.uk
SUMMARY:Membership Services Committee
DESCRIPTION:Membership Services Committee\n
URL:https://constructorscompany.org.uk/event/membership-services-committee-3/
CATEGORIES:Company Meetings
ORGANIZER;CN="John%20Curlewis":MAILTO:lunches@constructorscompany.co.uk
END:VEVENT
END:VCALENDAR