BEGIN:VCALENDAR
VERSION:2.0
PRODID:-//WCC - ECPv4.6.10.1//NONSGML v1.0//EN
CALSCALE:GREGORIAN
METHOD:PUBLISH
X-WR-CALNAME:WCC
X-ORIGINAL-URL:https://constructorscompany.org.uk
X-WR-CALDESC:Events for WCC
BEGIN:VEVENT
DTSTART;TZID=UTC+0:20210121T133000
DTEND;TZID=UTC+0:20210121T143000
DTSTAMP:20260420T065041
CREATED:20200825T114424Z
LAST-MODIFIED:20200825T114424Z
UID:7555-1611235800-1611239400@constructorscompany.org.uk
SUMMARY:Merchandise and Events Committee
DESCRIPTION:Merchandise and Events Committee \nIt is hoped that this event (which is for members of the Merchandise and Events Committee only) will be held in the boardroom at the Plaisterers’ Hall Offices\, but it may\, due to the Covid-19 restrictions\, be held using “Zoom”. This page will be updated as necessary. \n  \n
URL:https://constructorscompany.org.uk/event/merchandise-events-committee-20210121/
LOCATION:One London Wall\, London\, EC2Y 5JU
CATEGORIES:Company Meetings
ORGANIZER;CN="The%20Clerk":MAILTO:constructorsclerk@constructorscompany.co.uk
END:VEVENT
END:VCALENDAR