BEGIN:VCALENDAR
VERSION:2.0
PRODID:-//WCC - ECPv4.6.10.1//NONSGML v1.0//EN
CALSCALE:GREGORIAN
METHOD:PUBLISH
X-WR-CALNAME:WCC
X-ORIGINAL-URL:https://constructorscompany.org.uk
X-WR-CALDESC:Events for WCC
BEGIN:VEVENT
DTSTART;TZID=UTC+0:20230328T173000
DTEND;TZID=UTC+0:20230328T203000
DTSTAMP:20260422T171533
CREATED:20230203T130721Z
LAST-MODIFIED:20230221T173426Z
UID:11024-1680024600-1680035400@constructorscompany.org.uk
SUMMARY:NewGen Drinks Reception and Guildhall Tour (New Date)
DESCRIPTION:NewGen Drinks Reception and Guildhall Tour (New Date)\nRecently joined members are invited to attend a drinks reception at the Guildhall Club Members’ Bar followed by a guided tour of the medieval Guildhall by Liveryman Paul Singh. \nThe event will be held on 28th March 2023\, from 17:30 to 20:30\, starting with a drinks reception at the Members’ Bar after which Common Councillor and Liveryman Paul Singh will take attendees on a guided tour of the medieval great hall. The tour will offer attendees a glimpse into the rich history of the building\, which has stood for over 600 years and insights into the inner workings of the City of London Corporation. \nThis event is a great opportunity to meet fellow new members\, as well as some veterans\, and get to know more about the Company and City of London. \nCost: Free to attend (drinks not included)\nDress Code: Business dress\nDate: 28th March 2023\nTime: 17:30 – 20:00 \nPlease RSVP to Ashlynn.Harvey@invennt.com by 28th February 2023\, if you would like to attend. \n
URL:https://constructorscompany.org.uk/event/newgen-drinks-reception-and-guildhall-tour/
LOCATION:City of London\, London\, EC2P 2EJ
CATEGORIES:Informal Events,Young Constructors
ORGANIZER;CN="Constructors%20NewGen":MAILTO:ashlynn.harvey@invennt.com
END:VEVENT
END:VCALENDAR