BEGIN:VCALENDAR
VERSION:2.0
PRODID:-//WCC - ECPv4.6.10.1//NONSGML v1.0//EN
CALSCALE:GREGORIAN
METHOD:PUBLISH
X-WR-CALNAME:WCC
X-ORIGINAL-URL:https://constructorscompany.org.uk
X-WR-CALDESC:Events for WCC
BEGIN:VEVENT
DTSTART;TZID=UTC+0:20230914T120000
DTEND;TZID=UTC+0:20230914T120000
DTSTAMP:20260422T002214
CREATED:20230814T141512Z
LAST-MODIFIED:20230822T104108Z
UID:11412-1694692800-1694692800@constructorscompany.org.uk
SUMMARY:Rehearsal Installation
DESCRIPTION:Rehearsal Installation\n
URL:https://constructorscompany.org.uk/event/rehearsal-installation-2/
LOCATION:Guildhall Yard\, London\, EC2V 5AA\, United Kingdom
CATEGORIES:Company Meetings
ORGANIZER;CN="The%20Clerk":MAILTO:constructorsclerk@constructorscompany.co.uk
END:VEVENT
END:VCALENDAR