BEGIN:VCALENDAR
VERSION:2.0
PRODID:-//WCC - ECPv4.6.10.1//NONSGML v1.0//EN
CALSCALE:GREGORIAN
METHOD:PUBLISH
X-WR-CALNAME:WCC
X-ORIGINAL-URL:https://constructorscompany.org.uk
X-WR-CALDESC:Events for WCC
BEGIN:VEVENT
DTSTART;TZID=UTC+0:20210909T144500
DTEND;TZID=UTC+0:20210909T154500
DTSTAMP:20260421T215630
CREATED:20200921T135110Z
LAST-MODIFIED:20210218T173729Z
UID:7640-1631198700-1631202300@constructorscompany.org.uk
SUMMARY:Scholarships and Awards Committee
DESCRIPTION:Scholarships and Awards Committee \nThis event is for members of the Scholarship and Awards Committee only and will be held using Zoom. \n
URL:https://constructorscompany.org.uk/event/scholarship-awards-committee-20210121-2/
CATEGORIES:Company Meetings
ORGANIZER;CN="The%20Clerk":MAILTO:constructorsclerk@constructorscompany.co.uk
END:VEVENT
END:VCALENDAR