BEGIN:VCALENDAR
VERSION:2.0
PRODID:-//WCC - ECPv4.6.10.1//NONSGML v1.0//EN
CALSCALE:GREGORIAN
METHOD:PUBLISH
X-WR-CALNAME:WCC
X-ORIGINAL-URL:https://constructorscompany.org.uk
X-WR-CALDESC:Events for WCC
BEGIN:VEVENT
DTSTART;TZID=UTC+0:20210121T144500
DTEND;TZID=UTC+0:20210121T154500
DTSTAMP:20260420T052343
CREATED:20200824T202022Z
LAST-MODIFIED:20200825T114754Z
UID:7527-1611240300-1611243900@constructorscompany.org.uk
SUMMARY:Scholarships and Awards Committee
DESCRIPTION:Scholarships and Awards Committee \nIt is hoped that this event (which is for members of the Scholarship and Awards Committee only) will be held in the boardroom at the Plaisterers’ Hall Offices\, but it may\, due to the Covid-19 restrictions\, be held using “Zoom”. This page will be updated as necessary. \n
URL:https://constructorscompany.org.uk/event/scholarship-awards-committee-20210121/
LOCATION:One London Wall\, London\, EC2Y 5JU
CATEGORIES:Company Meetings
ORGANIZER;CN="The%20Clerk":MAILTO:constructorsclerk@constructorscompany.co.uk
END:VEVENT
END:VCALENDAR