BEGIN:VCALENDAR
VERSION:2.0
PRODID:-//WCC - ECPv4.6.10.1//NONSGML v1.0//EN
CALSCALE:GREGORIAN
METHOD:PUBLISH
X-WR-CALNAME:WCC
X-ORIGINAL-URL:https://constructorscompany.org.uk
X-WR-CALDESC:Events for WCC
BEGIN:VEVENT
DTSTART;TZID=UTC+0:20250116T144500
DTEND;TZID=UTC+0:20250116T144500
DTSTAMP:20260420T192606
CREATED:20240729T105208Z
LAST-MODIFIED:20240729T105208Z
UID:12873-1737038700-1737038700@constructorscompany.org.uk
SUMMARY:Scholarships & Awards Committee
DESCRIPTION:Scholarships & Awards Committee\n
URL:https://constructorscompany.org.uk/event/scholarships-awards-committee-10/
CATEGORIES:Company Meetings
ORGANIZER;CN="Master%20Deborah%20Pullen":MAILTO:master@constructorscompany.org.uk
END:VEVENT
END:VCALENDAR