BEGIN:VCALENDAR
VERSION:2.0
PRODID:-//WCC - ECPv4.6.10.1//NONSGML v1.0//EN
CALSCALE:GREGORIAN
METHOD:PUBLISH
X-WR-CALNAME:WCC
X-ORIGINAL-URL:https://constructorscompany.org.uk
X-WR-CALDESC:Events for WCC
BEGIN:VEVENT
DTSTART;TZID=UTC+0:20221111T150000
DTEND;TZID=UTC+0:20221111T235900
DTSTAMP:20260421T143811
CREATED:20220407T161634Z
LAST-MODIFIED:20221026T160218Z
UID:10067-1668178800-1668211140@constructorscompany.org.uk
SUMMARY:Silent Ceremony
DESCRIPTION:Silent Ceremony\n
URL:https://constructorscompany.org.uk/event/silent-ceremony-2/
LOCATION:City of London\, London \, EC2P 2EJ\, United Kingdom
CATEGORIES:Civic Events
END:VEVENT
END:VCALENDAR