BEGIN:VCALENDAR
VERSION:2.0
PRODID:-//WCC - ECPv4.6.10.1//NONSGML v1.0//EN
CALSCALE:GREGORIAN
METHOD:PUBLISH
X-WR-CALNAME:WCC
X-ORIGINAL-URL:https://constructorscompany.org.uk
X-WR-CALDESC:Events for WCC
BEGIN:VEVENT
DTSTART;TZID=UTC+0:20210909T160000
DTEND;TZID=UTC+0:20210909T170000
DTSTAMP:20260421T232703
CREATED:20201004T163346Z
LAST-MODIFIED:20210218T180039Z
UID:7861-1631203200-1631206800@constructorscompany.org.uk
SUMMARY:Sponsorship Committee
DESCRIPTION:Sponsorship Committee \nThis event (which is for members of the Sponsorship Committee only) will be held using Zoom. \n
URL:https://constructorscompany.org.uk/event/sponsorship-committee-20210121-2-2/
CATEGORIES:Company Meetings
ORGANIZER;CN="The%20Clerk":MAILTO:constructorsclerk@constructorscompany.co.uk
END:VEVENT
END:VCALENDAR