BEGIN:VCALENDAR
VERSION:2.0
PRODID:-//WCC - ECPv4.6.10.1//NONSGML v1.0//EN
CALSCALE:GREGORIAN
METHOD:PUBLISH
X-WR-CALNAME:WCC
X-ORIGINAL-URL:https://constructorscompany.org.uk
X-WR-CALDESC:Events for WCC
BEGIN:VEVENT
DTSTART;VALUE=DATE:20240604
DTEND;VALUE=DATE:20240607
DTSTAMP:20260420T091330
CREATED:20240425T172456Z
LAST-MODIFIED:20240425T172739Z
UID:12264-1717459200-1717718399@constructorscompany.org.uk
SUMMARY:The Sheriffs' & Recorder's Fund Presents 'Dial Medicine for Murder'
DESCRIPTION:The Sheriffs’ & Recorder’s Fund Presents ‘Dial Medicine for Murder’\nFollowing the sell-out show of the highly acclaimed ‘Dial Medicine for Murder’ Criminal Medical Consultation last November\, the Sheriffs’ & Recorder’s Fund is pleased to present three more dates at the Old Bailey in the iconic Court No. 1\, scene of many famous criminal case trials that shaped modern Britain. \nOnline bookings are now open to attend the Central Criminal Court\, Old Bailey.  The offered dates are: Tuesday\, Wednesday & Thursday 4th – 6th June\, 2024. \nTimings are: 6:00pm Arrival for Drinks Reception\, Presentation 7:00pm\, conclusion 8:30pm following a Q&A session\, leaving time for a nearby supper. \nBook Online here:\nhttps://wcmpc.wufoo.com/forms/dial-medicine-for-murder-criminal-consultation/ \nStandard Court Seats £75\, Premium Dock\, Jury Box & Counsels’ Row £110\, Rear of Court & Public Gallery £40.  See the Flyer for more details\, and use the QR code to book if you wish. \nAlso\, the 2024 Special Edition ‘Old Bailey’ playings cards packs will be available at the events\, or by mail order detailed in this flyer.  These packs were produced for the recent ’Trial & Error’ Shows\, and remain available for the full benefit of the S&R Fund. \n
URL:https://constructorscompany.org.uk/event/the-sheriffs-recorders-fund-presents-dial-medicine-for-murder/
LOCATION:London\, EC4M 7EH\, United Kingdom
CATEGORIES:Booking,Civic Events,Informal Events
ORGANIZER;CN="The%20Sheriffs%27%20%26%20Recorder%27s%20Fund":MAILTO:trialanderrorevents@outlook.com
END:VEVENT
END:VCALENDAR