BEGIN:VCALENDAR
VERSION:2.0
PRODID:-//WCC - ECPv4.6.10.1//NONSGML v1.0//EN
CALSCALE:GREGORIAN
METHOD:PUBLISH
X-WR-CALNAME:WCC
X-ORIGINAL-URL:https://constructorscompany.org.uk
X-WR-CALDESC:Events for WCC
BEGIN:VEVENT
DTSTART;TZID=UTC+0:20210121T190000
DTEND;TZID=UTC+0:20210121T200000
DTSTAMP:20260420T022358
CREATED:20201216T131932Z
LAST-MODIFIED:20201216T220758Z
UID:8252-1611255600-1611259200@constructorscompany.org.uk
SUMMARY:Virtual Wine & Cheese Tasting
DESCRIPTION:The Master and Wardens\, with help from The Courtyard Dairy (a specialist Cheese Supplier) invite members to take part in a guided virtual cheese and wine tasting on 21 January 2021 at 7pm.  The tasting will be guided by one of the Dairy’s specialists and each tasting package is sufficient for two people to share. \nThe flyer for the event can be downloaded here and the price is £57 per tasting package\, for which you will get a package delivered to you that contains 6 sample cheese portions and two half-bottles of complementary wine. \nWhen you book in to this event you will need to supply the organiser with the address to which you would like the tasting package to be delivered.  You will also commit to paying for the event unless you cancel your booking by 27 December 2020. \nThere is a minimum number of participants for this event (12) and if that number has not been reached by 23:59 on 27 December 2020 the event will be cancelled.  Full details of the virtual event arrangements will be provided to each participant no later than 20 January 2021. \n
URL:https://constructorscompany.org.uk/event/virtual-wine-cheese-tasting/
END:VEVENT
END:VCALENDAR