BEGIN:VCALENDAR
VERSION:2.0
PRODID:-//WCC - ECPv4.6.10.1//NONSGML v1.0//EN
CALSCALE:GREGORIAN
METHOD:PUBLISH
X-WR-CALNAME:WCC
X-ORIGINAL-URL:https://constructorscompany.org.uk
X-WR-CALDESC:Events for WCC
BEGIN:VEVENT
DTSTART;TZID=UTC+0:20210210T180000
DTEND;TZID=UTC+0:20210210T193000
DTSTAMP:20260419T205517
CREATED:20201216T193345Z
LAST-MODIFIED:20210122T141412Z
UID:8262-1612980000-1612985400@constructorscompany.org.uk
SUMMARY:Zoominar - SIR IAN DIXON SCHOLARSHIP PRESENTATION
DESCRIPTION:Zoominar \nThis is another in our “Lockdown” series of virtual talks and will be given by the two winners of the Sir Ian Dixon Scholarship.  It will last approximately one and a half hours and the flyer can be downloaded here.  Requests to take part should be made through Eventbrite\, and any questions you may have should be addressed to Liveryman Craig Harding (info@csharchitecturalservices.co.uk) or by telephone to 07903 893253. \nProper completion of the Eventbrite registration process will result in an automatic email giving you the details of the Zoom meeting. \n
URL:https://constructorscompany.org.uk/event/zoominar_20201119-2/
CATEGORIES:Booking,Informal Events
ORGANIZER;CN="Craig%20Harding":MAILTO:craig.harding@constructorscompany.org.uk
END:VEVENT
END:VCALENDAR